BEGIN:VCALENDAR
VERSION:2.0
PRODID:-//Wijkorganisatie de Ring - ECPv6.15.20//NONSGML v1.0//EN
CALSCALE:GREGORIAN
METHOD:PUBLISH
X-ORIGINAL-URL:https://de-ring.org
X-WR-CALDESC:Evenementen voor Wijkorganisatie de Ring
REFRESH-INTERVAL;VALUE=DURATION:PT1H
X-Robots-Tag:noindex
X-PUBLISHED-TTL:PT1H
BEGIN:VTIMEZONE
TZID:Europe/Amsterdam
BEGIN:DAYLIGHT
TZOFFSETFROM:+0100
TZOFFSETTO:+0200
TZNAME:CEST
DTSTART:20240331T010000
END:DAYLIGHT
BEGIN:STANDARD
TZOFFSETFROM:+0200
TZOFFSETTO:+0100
TZNAME:CET
DTSTART:20241027T010000
END:STANDARD
BEGIN:DAYLIGHT
TZOFFSETFROM:+0100
TZOFFSETTO:+0200
TZNAME:CEST
DTSTART:20250330T010000
END:DAYLIGHT
BEGIN:STANDARD
TZOFFSETFROM:+0200
TZOFFSETTO:+0100
TZNAME:CET
DTSTART:20251026T010000
END:STANDARD
BEGIN:DAYLIGHT
TZOFFSETFROM:+0100
TZOFFSETTO:+0200
TZNAME:CEST
DTSTART:20260329T010000
END:DAYLIGHT
BEGIN:STANDARD
TZOFFSETFROM:+0200
TZOFFSETTO:+0100
TZNAME:CET
DTSTART:20261025T010000
END:STANDARD
END:VTIMEZONE
BEGIN:VEVENT
DTSTART;TZID=Europe/Amsterdam:20250424T120000
DTEND;TZID=Europe/Amsterdam:20250424T150000
DTSTAMP:20260423T103426
CREATED:20250502T080955Z
LAST-MODIFIED:20250502T082311Z
UID:2530-1745496000-1745506800@de-ring.org
SUMMARY:WijkLunch
DESCRIPTION:WijkLunch – Gezellig samen eten\nRommelt jouw buik al? Iedere laatste donderdag van de maand hebben we in wijkcantrum De Baselaer een gezamenlijke wijklunch! Gezellig om de tafel zitten en bijpraten terwijl ieder geniet van een lekker broodje. \nLet wel op: aanmelden kan enkel vooraf bij het beheer in het wijkcentrum. \nVragen? Bel 013-5435909. \n\nKosten: €5 — aanmelden vooraf bij het beheer in het wijkcentrum
URL:https://de-ring.org/kalender/wijklunch/
LOCATION:De Baselaer\, Hoefstraat 175\, Tilburg\, Nederland
CATEGORIES:WijkLunch
ATTACH;FMTTYPE=image/jpeg:https://de-ring.org/wp-content/uploads/2025/05/bread-3467243_1920.jpg
END:VEVENT
END:VCALENDAR